BEGIN:VCALENDAR
VERSION:2.0
PRODID:-//Tukios.com/
BEGIN:VEVENT
UID:970a37cd-cf9c-4988-a6fe-a6446dbb4c08@www.keithleyfuneralchapels.com
DTSTAMP:20260420T195421Z
DTSTART:20260424T153000Z
DTEND:20260424T163000Z
SUMMARY:Funeral Service
DESCRIPTION:
URL:https://www.keithleyfuneralchapels.com/obituaries/mourice-befort
LOCATION: 883 Moscow Street  Munjor KS 67601
GEO:38.8110363;-99.2655226
END:VEVENT
END:VCALENDAR