BEGIN:VCALENDAR
VERSION:2.0
PRODID:-//Tukios.com/
BEGIN:VEVENT
UID:bbaa2857-fc5c-4431-bbc2-144ab8de5b94@www.keithleyfuneralchapels.com
DTSTAMP:20260423T010805Z
DTSTART:20260425T150000Z
DTEND:20260425T160000Z
SUMMARY:Mass
DESCRIPTION:
URL:https://www.keithleyfuneralchapels.com/obituaries/leslie-les-smith
LOCATION: 1805 Vine Street  Hays KS 67601
GEO:38.8756761;-99.3201045
END:VEVENT
END:VCALENDAR