BEGIN:VCALENDAR
VERSION:2.0
PRODID:-//Tukios.com/
BEGIN:VEVENT
UID:780a100d-9966-427c-aefd-5c0960c7fd0d@www.keithleyfuneralchapels.com
DTSTAMP:20260423T010653Z
DTSTART:20260424T220000Z
DTEND:20260425T000000Z
SUMMARY:Visitation
DESCRIPTION:
URL:https://www.keithleyfuneralchapels.com/obituaries/leslie-les-smith
LOCATION: 2509 Vine St  Hays KS 67601
GEO:38.8827829;-99.3182845
END:VEVENT
END:VCALENDAR